BEGIN:VCALENDAR
VERSION:2.0
PRODID:-//Polish Genealogical Society of Minnesota - ECPv6.15.20//NONSGML v1.0//EN
CALSCALE:GREGORIAN
METHOD:PUBLISH
X-ORIGINAL-URL:https://pgsmn.org
X-WR-CALDESC:Events for Polish Genealogical Society of Minnesota
REFRESH-INTERVAL;VALUE=DURATION:PT1H
X-Robots-Tag:noindex
X-PUBLISHED-TTL:PT1H
BEGIN:VTIMEZONE
TZID:America/Chicago
BEGIN:DAYLIGHT
TZOFFSETFROM:-0600
TZOFFSETTO:-0500
TZNAME:CDT
DTSTART:20240310T080000
END:DAYLIGHT
BEGIN:STANDARD
TZOFFSETFROM:-0500
TZOFFSETTO:-0600
TZNAME:CST
DTSTART:20241103T070000
END:STANDARD
BEGIN:DAYLIGHT
TZOFFSETFROM:-0600
TZOFFSETTO:-0500
TZNAME:CDT
DTSTART:20250309T080000
END:DAYLIGHT
BEGIN:STANDARD
TZOFFSETFROM:-0500
TZOFFSETTO:-0600
TZNAME:CST
DTSTART:20251102T070000
END:STANDARD
BEGIN:DAYLIGHT
TZOFFSETFROM:-0600
TZOFFSETTO:-0500
TZNAME:CDT
DTSTART:20260308T080000
END:DAYLIGHT
BEGIN:STANDARD
TZOFFSETFROM:-0500
TZOFFSETTO:-0600
TZNAME:CST
DTSTART:20261101T070000
END:STANDARD
END:VTIMEZONE
BEGIN:VEVENT
DTSTART;VALUE=DATE:20250806
DTEND;VALUE=DATE:20250809
DTSTAMP:20260424T084658
CREATED:20240318T172941Z
LAST-MODIFIED:20250510T221725Z
UID:39767-1754438400-1754697599@pgsmn.org
SUMMARY:FEEFHS Conference
DESCRIPTION:This is not a PGS-MN event but may be of interest to some PGS-MN members as there are Polish sessions. For more information\, click here. \nThe 2025 FEEFHS Annual Conference will be held virtually by Zoom from August 6-8. Early bird registration is from March 2\, 2025 through July 6\, 2025. \nThe Conference will feature four parallel tracks of classes. Registrants will receive a complete syllabus and access to viewing recordings of each session via the FEEFHS portal through the end of 2025.
URL:https://pgsmn.org/event/feehs-conference/
CATEGORIES:Community Events
ATTACH;FMTTYPE=image/jpeg:https://pgsmn.org/wp-content/uploads/2024/03/FEEFHS-conference-2025.jpeg
END:VEVENT
END:VCALENDAR